Workbook

Sheet Decision Sheet
A1: Color Key | D1: Period
A2: Generated by Forecasting Method | C2: Forecast | D2: Period -1 | E2: Period 0 | F2: Period 1 | G2: Period 2 | H2: Period 3 | I2: Period 4 | J2: Period 5 | K2: Period 6 | L2: Period 7 | M2: Period 8 | N2: Period 9 | O2: Period 10 | P2: Period 11 | Q2: Period 12
A3: Provided by Instructor | C3: Product A
A4: Decisions Required | C4: Product B
A5: General Information | C5: Product C
C6: Product D
A8: First Period | C8: Actual Demand | F8: =F2 -> Period 1 | G8: =G2 -> Period 2 | H8: =H2 -> Period 3 | I8: =I2 -> Period 4 | J8: =J2 -> Period 5 | K8: =K2 -> Period 6 | L8: =L2 -> Period 7 | M8: =M2 -> Period 8 | ... Q8: =Q2 -> Period 12
A9: Build Forecasting Models | C9: Product A
A10: Select Suppliers | C10: Product B
A11: Place initial inventory orders for Products A-D | C11: Product C
C12: Product D
A13: Subsequent Periods
A14: Record Actual Data and Supplier Events | C14: Event Information | F14: =F2 -> Period 1 | G14: =G2 -> Period 2 | H14: =H2 -> Period 3 | I14: =I2 -> Period 4 | J14: =J2 -> Period 5 | K14: =K2 -> Period 6 | L14: =L2 -> Period 7 | M14: =M2 -> Period 8 | ... Q14: =Q2 -> Period 12
A15: Update Forecasting Models with New Data | C15: Code | F15: 7 | G15: 12 | H15: 3
A16: Update Supplier Relationships
A17: Place inventory orders for Products A-D | C17: Event Lookup
C18: Code | F18: 3
C19: Event Type | F19: =IFERROR(VLOOKUP(F18,'Event Sheet'!A1:F36,2,FALSE),"") -> Quality
C20: Event Severity | F20: =IFERROR(VLOOKUP(F18,'Event Sheet'!$A$1:$F$36,3,FALSE),"") -> Major
C21: Event Description | F21: =IFERROR(VLOOKUP(F18,'Event Sheet'!$A$1:$F$36,4,FALSE),"") -> You received a high quality reward for your organization.
C22: Condition | F22: =IFERROR(VLOOKUP(F18,'Event Sheet'!$A$1:$F$36,6,FALSE),"") -> Every product supplied by a supplier with quality ≥ Very High
C23: Event Effects | F23: =IFERROR(VLOOKUP(F18,'Event Sheet'!$A$1:$F$36,5,FALSE),"") -> Receive $10,000 as a period adjustment for each applicable product
C24: Instructions | F24: =IFERROR(VLOOKUP(F18,'Event Sheet'!$A$1:$G$36,7,FALSE),"") -> Add 10,000 to the current period in column E on the Performance Sheet for each product impacted
C26: Order Inventory | D26: =D2 -> Period -1 | E26: =E2 -> Period 0 | F26: =F2 -> Period 1 | G26: =G2 -> Period 2 | H26: =H2 -> Period 3 | I26: =I2 -> Period 4 | J26: =J2 -> Period 5 | K26: =K2 -> Period 6 | ... Q26: =Q2 -> Period 12
C27: Product A
C28: Product B
C29: Product C
C30: Product D
C32: Active Suppliers* | F32: =F2 -> Period 1 | G32: =G2 -> Period 2 | H32: =H2 -> Period 3 | I32: =I2 -> Period 4 | J32: =J2 -> Period 5 | K32: =K2 -> Period 6 | L32: =L2 -> Period 7 | M32: =M2 -> Period 8 | ... Q32: =Q2 -> Period 12
C33: Product A
C34: Product B
C35: Product C
C36: Product D
C37: *Leave active supplier selection blank if no order is placed in any given period for a specific part.
B39: Supplier Choices | C39: Equipment 1 | E39: ='Supplier Management Sheet'!C3 -> Upfront Setup Costs | F39: ='Supplier Management Sheet'!D3 -> Period Fixed Costs | G39: ='Supplier Management Sheet'!E3 -> Var Cost A | H39: ='Supplier Management Sheet'!F3 -> Var Cost B | I39: ='Supplier Management Sheet'!G3 -> Var Cost C | J39: ='Supplier Management Sheet'!H3 -> Var Cost D | L39: ='Supplier Management Sheet'!J3 -> Quality | M39: ='Supplier Management Sheet'!K3 -> Disruption Risk Management | N39: ='Supplier Management Sheet'!L3 -> Timeliness | O39: ='Supplier Management Sheet'!M3 -> Innovativeness | Q39: Product A Suppliers | R39: Product B Suppliers | S39: Product C Suppliers | T39: Product D Suppliers
B40: Make | C40: Equipment 1 | E40: ='Supplier Management Sheet'!C4 -> -100000 | F40: ='Supplier Management Sheet'!D4 -> -1000 | G40: ='Supplier Management Sheet'!E4 -> 2 | H40: ='Supplier Management Sheet'!F4 -> 4 | I40: ='Supplier Management Sheet'!G4 -> 5 | J40: ='Supplier Management Sheet'!H4 -> 6 | L40: ='Supplier Management Sheet'!J4 -> High | M40: ='Supplier Management Sheet'!K4 -> High | N40: ='Supplier Management Sheet'!L4 -> Very High | O40: ='Supplier Management Sheet'!M4 -> Low | Q40: Equipment 1 | R40: Equipment 1 | S40: Equipment 1 | T40: Equipment 1
C41: Equipment 2 | E41: ='Supplier Management Sheet'!C5 -> -40000 | F41: ='Supplier Management Sheet'!D5 -> -750 | G41: ='Supplier Management Sheet'!E5 -> 4 | H41: ='Supplier Management Sheet'!F5 -> 5 | I41: ='Supplier Management Sheet'!G5 -> 5 | J41: ='Supplier Management Sheet'!H5 | L41: ='Supplier Management Sheet'!J5 -> Medium | M41: ='Supplier Management Sheet'!K5 -> Medium | N41: ='Supplier Management Sheet'!L5 -> Very High | O41: ='Supplier Management Sheet'!M5 -> Low | Q41: Equipment 2 | R41: Equipment 2 | S41: Equipment 2 | T41: Equipment 4
C42: Equipment 3 | E42: ='Supplier Management Sheet'!C6 -> -10000 | F42: ='Supplier Management Sheet'!D6 -> -500 | G42: ='Supplier Management Sheet'!E6 -> 2 | H42: ='Supplier Management Sheet'!F6 | I42: ='Supplier Management Sheet'!G6 | J42: ='Supplier Management Sheet'!H6 -> 0 | L42: ='Supplier Management Sheet'!J6 -> Medium | M42: ='Supplier Management Sheet'!K6 -> Medium | N42: ='Supplier Management Sheet'!L6 -> Medium | O42: ='Supplier Management Sheet'!M6 -> Low | Q42: Equipment 3 | R42: Supplier 1 | S42: Supplier 1 | T42: Supplier 1
C43: Equipment 4 | E43: ='Supplier Management Sheet'!C7 -> -20000 | F43: ='Supplier Management Sheet'!D7 -> -500 | G43: ='Supplier Management Sheet'!E7 | H43: ='Supplier Management Sheet'!F7 | I43: ='Supplier Management Sheet'!G7 -> 0 | J43: ='Supplier Management Sheet'!H7 -> 5 | L43: ='Supplier Management Sheet'!J7 -> Very High | M43: ='Supplier Management Sheet'!K7 -> Very High | N43: ='Supplier Management Sheet'!L7 -> Very High | O43: ='Supplier Management Sheet'!M7 -> Low | Q43: Supplier 1 | R43: Supplier 3 | S43: Supplier 4 | T43: Supplier 2
B44: Buy | C44: Supplier 1 | E44: ='Supplier Management Sheet'!C8 -> -500 | F44: ='Supplier Management Sheet'!D8 -> -2700 | G44: ='Supplier Management Sheet'!E8 -> 3 | H44: ='Supplier Management Sheet'!F8 -> 4 | I44: ='Supplier Management Sheet'!G8 -> 5 | J44: ='Supplier Management Sheet'!H8 -> 8 | L44: ='Supplier Management Sheet'!J8 -> Low | M44: ='Supplier Management Sheet'!K8 -> Low | N44: ='Supplier Management Sheet'!L8 -> Very Low | O44: ='Supplier Management Sheet'!M8 -> Low | Q44: Supplier 5 | R44: Supplier 4 | S44: Supplier 7 | T44: Supplier 5
...

Sheet Historical Demand
B1: 7 | C1: 1 | D1: 2 | E1: 3 | F1: 4
A2: Period | B2: Date | C2: Product A | D2: Product B | E2: Product C | F2: Product D
A3: Period -23 | B3: 42005 | C3: 384 | D3: 232 | E3: 80 | F3: 0 | I3: 1 | J3: 920 | K3: 540 | L3: 320 | N3: =SUM(J3:M3) -> 1780 | P3: 1 | Q3: =$G3*RANDBETWEEN(30,50)/100 -> 0 | R3: =$G3*RANDBETWEEN(20,30)/100 -> 0 | S3: =$G3*RANDBETWEEN(10,20)/100 -> 0 | U3: =U2+RANDBETWEEN(-2,4)*100 -> 0
A4: Period -22 | B4: 42036 | C4: 252 | D4: 196 | E4: 112 | F4: 0 | I4: 2 | J4: 1800 | K4: 1380 | L4: 1080 | N4: =SUM(J4:M4) -> 4260 | P4: 2 | Q4: =$G4*RANDBETWEEN(30,50)/100 -> 0 | R4: =$G4*RANDBETWEEN(20,30)/100 -> 0 | S4: =$G4*RANDBETWEEN(10,20)/100 -> 0 | U4: =U3+RANDBETWEEN(-2,4)*100 -> 400
A5: Period -21 | B5: 42064 | C5: 376 | D5: 224 | E5: 88 | F5: 0 | I5: 3 | J5: 2730 | K5: 1890 | L5: 1120 | N5: =SUM(J5:M5) -> 5740 | P5: 3 | Q5: =$G5*RANDBETWEEN(30,50)/100 -> 0 | R5: =$G5*RANDBETWEEN(20,30)/100 -> 0 | S5: =$G5*RANDBETWEEN(10,20)/100 -> 0 | U5: =U4+RANDBETWEEN(-2,4)*100 -> 200
A6: Period -20 | B6: 42095 | C6: 396 | D6: 220 | E6: 143 | F6: 0 | I6: 4 | J6: 4100 | K6: 2700 | L6: 1900 | N6: =SUM(J6:M6) -> 8700 | P6: 4 | Q6: =$G6*RANDBETWEEN(30,50)/100 -> 0 | R6: =$G6*RANDBETWEEN(20,30)/100 -> 0 | S6: =$G6*RANDBETWEEN(10,20)/100 -> 0 | U6: =U5+RANDBETWEEN(-2,4)*100 -> 600
A7: Period -19 | B7: 42125 | C7: 600 | D7: 300 | E7: 195 | F7: 0 | I7: 5 | J7: 4620 | K7: 3920 | L7: 2800 | N7: =SUM(J7:M7) -> 11340 | P7: 5 | Q7: =$G7*RANDBETWEEN(30,50)/100 -> 0 | R7: =$G7*RANDBETWEEN(20,30)/100 -> 0 | S7: =$G7*RANDBETWEEN(10,20)/100 -> 0 | U7: =U6+RANDBETWEEN(-2,4)*100 -> 600
A8: Period -18 | B8: 42156 | C8: 752 | D8: 448 | E8: 288 | F8: 0 | I8: 6 | J8: 6840 | K8: 4320 | L8: 2520 | N8: =SUM(J8:M8) -> 13680 | P8: 6 | Q8: =$G8*RANDBETWEEN(30,50)/100 -> 0 | R8: =$G8*RANDBETWEEN(20,30)/100 -> 0 | S8: =$G8*RANDBETWEEN(10,20)/100 -> 0 | U8: =U7+RANDBETWEEN(-2,4)*100 -> 900
A9: Period -17 | B9: 42186 | C9: 480 | D9: 432 | E9: 240 | F9: 0 | I9: 7 | J9: 8460 | K9: 3780 | L9: 1980 | N9: =SUM(J9:M9) -> 14220 | P9: 7 | Q9: =$G9*RANDBETWEEN(30,50)/100 -> 0 | R9: =$G9*RANDBETWEEN(20,30)/100 -> 0 | S9: =$G9*RANDBETWEEN(10,20)/100 -> 0 | U9: =U8+RANDBETWEEN(-2,4)*100 -> 1200
A10: Period -16 | B10: 42217 | C10: 594 | D10: 378 | E10: 252 | F10: 0 | I10: 8 | J10: 9030 | K10: 5040 | L10: 3150 | N10: =SUM(J10:M10) -> 17220 | P10: 8 | Q10: =$G10*RANDBETWEEN(30,50)/100 -> 0 | R10: =$G10*RANDBETWEEN(20,30)/100 -> 0 | S10: =$G10*RANDBETWEEN(10,20)/100 -> 0 | U10: =U9+RANDBETWEEN(-2,4)*100 -> 1000
A11: Period -15 | B11: 42248 | C11: 512 | D11: 448 | E11: 160 | F11: 0 | I11: 9 | J11: 9450 | K11: 5880 | L11: 3570 | N11: =SUM(J11:M11) -> 18900 | P11: 9 | Q11: =$G11*RANDBETWEEN(30,50)/100 -> 0 | R11: =$G11*RANDBETWEEN(20,30)/100 -> 0 | S11: =$G11*RANDBETWEEN(10,20)/100 -> 0 | U11: =U10+RANDBETWEEN(-2,4)*100 -> 1400
A12: Period -14 | B12: 42278 | C12: 722 | D12: 570 | E12: 285 | F12: 0 | I12: 10 | J12: 5700 | K12: 5510 | L12: 2470 | N12: =SUM(J12:M12) -> 13680 | P12: 10 | Q12: =$G12*RANDBETWEEN(30,50)/100 -> 0 | R12: =$G12*RANDBETWEEN(20,30)/100 -> 0 | S12: =$G12*RANDBETWEEN(10,20)/100 -> 0 | U12: =U11+RANDBETWEEN(-2,4)*100 -> 1800
A13: Period -13 | B13: 42309 | C13: 629 | D13: 493 | E13: 306 | F13: 0 | I13: 11 | J13: 7030 | K13: 4750 | L13: 3610 | N13: =SUM(J13:M13) -> 15390 | P13: 11 | Q13: =$G13*RANDBETWEEN(30,50)/100 -> 0 | R13: =$G13*RANDBETWEEN(20,30)/100 -> 0 | S13: =$G13*RANDBETWEEN(10,20)/100 -> 0 | U13: =U12+RANDBETWEEN(-2,4)*100 -> 1900
A14: Period -12 | B14: 42339 | C14: 608 | D14: 494 | E14: 285 | F14: 0 | I14: 12 | J14: 6270 | K14: 3990 | L14: 2470 | N14: =SUM(J14:M14) -> 12730 | P14: 12 | Q14: =$G14*RANDBETWEEN(30,50)/100 -> 0 | R14: =$G14*RANDBETWEEN(20,30)/100 -> 0 | S14: =$G14*RANDBETWEEN(10,20)/100 -> 0 | U14: =U13+RANDBETWEEN(-2,4)*100 -> 1900
A15: Period -11 | B15: 42370 | C15: 770 | D15: 462 | E15: 286 | F15: 0 | I15: Period 1 | J15: 5100 | K15: 3740 | L15: 2720 | N15: =SUM(J15:M15) -> 11560 | P15: Period 1 | Q15: =$G15*RANDBETWEEN(30,50)/100 -> 0 | R15: =$G15*RANDBETWEEN(20,30)/100 -> 0 | S15: =$G15*RANDBETWEEN(10,20)/100 -> 0 | U15: =#REF!+RANDBETWEEN(-2,4)*100 -> #REF!
A16: Period -10 | B16: 42401 | C16: 798 | D16: 630 | E16: 378 | F16: 0 | I16: Period 2 | J16: 7200 | K16: 3520 | L16: 1600 | N16: =SUM(J16:M16) -> 12320 | P16: Period 2 | Q16: =$G16*RANDBETWEEN(30,50)/100 -> 0 | R16: =$G16*RANDBETWEEN(20,30)/100 -> 0 | S16: =$G16*RANDBETWEEN(10,20)/100 -> 0 | U16: =U15+RANDBETWEEN(-2,4)*100 -> #REF!
A17: Period -9 | B17: 42430 | C17: 777 | D17: 420 | E17: 210 | F17: 0 | I17: Period 3 | J17: 6840 | K17: 4940 | L17: 2660 | N17: =SUM(J17:M17) -> 14440 | P17: Period 3 | Q17: =$G17*RANDBETWEEN(30,50)/100 -> 0 | R17: =$G17*RANDBETWEEN(20,30)/100 -> 0 | S17: =$G17*RANDBETWEEN(10,20)/100 -> 0 | U17: =U16+RANDBETWEEN(-2,4)*100 -> #REF!
A18: Period -8 | B18: 42461 | C18: 700 | D18: 440 | E18: 380 | F18: 0 | I18: Period 4 | J18: 9030 | K18: 4410 | L18: 3780 | N18: =SUM(J18:M18) -> 17220 | P18: Period 4 | Q18: =$G18*RANDBETWEEN(30,50)/100 -> 0 | R18: =$G18*RANDBETWEEN(20,30)/100 -> 0 | S18: =$G18*RANDBETWEEN(10,20)/100 -> 0 | U18: =U17+RANDBETWEEN(-2,4)*100 -> #REF!
A19: Period -7 | B19: 42491 | C19: 741 | D19: 418 | E19: 285 | F19: 0 | I19: Period 5 | J19: 5700 | K19: 5700 | L19: 2850 | N19: =SUM(J19:M19) -> 14250 | P19: Period 5 | Q19: =$G19*RANDBETWEEN(30,50)/100 -> 0 | R19: =$G19*RANDBETWEEN(20,30)/100 -> 0 | S19: =$G19*RANDBETWEEN(10,20)/100 -> 0 | U19: =U18+RANDBETWEEN(-2,4)*100 -> #REF!
A20: Period -6 | B20: 42522 | C20: 782 | D20: 621 | E20: 276 | F20: 0 | I20: Period 6 | J20: 6660 | K20: 5400 | L20: 1800 | N20: =SUM(J20:M20) -> 13860 | P20: Period 6 | Q20: =$G20*RANDBETWEEN(30,50)/100 -> 0 | R20: =$G20*RANDBETWEEN(20,30)/100 -> 0 | S20: =$G20*RANDBETWEEN(10,20)/100 -> 0 | U20: =U19+RANDBETWEEN(-2,4)*100 -> #REF!
A21: Period -5 | B21: 42552 | C21: 816 | D21: 648 | E21: 384 | F21: 0 | I21: Period 7 | J21: 9900 | K21: 4840 | L21: 3960 | M21: 1980 | N21: =SUM(J21:M21) -> 20680 | P21: Period 7 | Q21: =$G21*RANDBETWEEN(30,50)/100 -> 0 | R21: =$G21*RANDBETWEEN(20,30)/100 -> 0 | S21: =$G21*RANDBETWEEN(10,20)/100 -> 0 | T21: =$G21*RANDBETWEEN(5,15)/100 -> 0 | U21: =U20+RANDBETWEEN(-2,4)*100 -> #REF!
A22: Period -4 | B22: 42583 | C22: 864 | D22: 504 | E22: 336 | F22: 312 | I22: Period 8 | J22: 12740 | K22: 7800 | L22: 4680 | M22: 3120 | N22: =SUM(J22:M22) -> 28340 | P22: Period 8 | Q22: =$G22*RANDBETWEEN(30,50)/100 -> 0 | R22: =$G22*RANDBETWEEN(20,30)/100 -> 0 | S22: =$G22*RANDBETWEEN(10,20)/100 -> 0 | T22: =$G22*RANDBETWEEN(5,15)/100 -> 0 | U22: =U21+RANDBETWEEN(-2,4)*100 -> #REF!
A23: Period -3 | B23: 42614 | C23: 1225 | D23: 650 | E23: 325 | F23: 200 | I23: Period 9 | J23: 9120 | K23: 5520 | L23: 4800 | M23: 1680 | N23: =SUM(J23:M23) -> 21120 | P23: Period 9 | Q23: =$G23*RANDBETWEEN(30,50)/100 -> 0 | R23: =$G23*RANDBETWEEN(20,30)/100 -> 0 | S23: =$G23*RANDBETWEEN(10,20)/100 -> 0 | T23: =$G23*RANDBETWEEN(5,15)/100 -> 0 | U23: =U22+RANDBETWEEN(-2,4)*100 -> #REF!
A24: Period -2 | B24: 42644 | C24: 1250 | D24: 550 | E24: 500 | F24: 225 | I24: Period 10 | J24: 9500 | K24: 6250 | L24: 3500 | M24: 1500 | N24: =SUM(J24:M24) -> 20750 | P24: Period 10 | Q24: =$G24*RANDBETWEEN(30,50)/100 -> 0 | R24: =$G24*RANDBETWEEN(20,30)/100 -> 0 | S24: =$G24*RANDBETWEEN(10,20)/100 -> 0 | T24: =$G24*RANDBETWEEN(5,15)/100 -> 0 | U24: =U23+RANDBETWEEN(-2,4)*100 -> #REF!
A25: Period -1 | B25: 42675 | C25: 870 | D25: 667 | E25: 435 | F25: 145 | I25: Period 11 | J25: 13230 | K25: 6750 | L25: 4050 | M25: 3240 | N25: =SUM(J25:M25) -> 27270 | P25: Period 11 | Q25: =$G25*RANDBETWEEN(30,50)/100 -> 0 | R25: =$G25*RANDBETWEEN(20,30)/100 -> 0 | S25: =$G25*RANDBETWEEN(10,20)/100 -> 0 | T25: =$G25*RANDBETWEEN(5,15)/100 -> 0 | U25: =U24+RANDBETWEEN(-2,4)*100 -> #REF!
A26: Period 0 | B26: 42705 | C26: 1026 | D26: 648 | E26: 432 | F26: 351 | I26: Period 12 | J26: 13050 | K26: 7250 | L26: 5800 | M26: 2900 | N26: =SUM(J26:M26) -> 29000 | P26: Period 12 | Q26: =$G26*RANDBETWEEN(30,50)/100 -> 0 | R26: =$G26*RANDBETWEEN(20,30)/100 -> 0 | S26: =$G26*RANDBETWEEN(10,20)/100 -> 0 | T26: =$G26*RANDBETWEEN(5,15)/100 -> 0 | U26: =U25+RANDBETWEEN(-2,4)*100 -> #REF!
A27: Period 1 | B27: 42736 | C27: =IF(ISBLANK(HLOOKUP($A27,'Decision Sheet'!$F$2:$Q$12,C$1+$B$1,FALSE)),"",HLOOKUP($A27,'Decision Sheet'!$F$2:$Q$12,C$1+$B$1,FALSE)) | D27: =IF(ISBLANK(HLOOKUP($A27,'Decision Sheet'!$F$2:$Q$12,D$1+$B$1,FALSE)),"",HLOOKUP($A27,'Decision Sheet'!$F$2:$Q$12,D$1+$B$1,FALSE)) | E27: =IF(ISBLANK(HLOOKUP($A27,'Decision Sheet'!$F$2:$Q$12,E$1+$B$1,FALSE)),"",HLOOKUP($A27,'Decision Sheet'!$F$2:$Q$12,E$1+$B$1,FALSE)) | F27: =IF(ISBLANK(HLOOKUP($A27,'Decision Sheet'!$F$2:$Q$12,F$1+$B$1,FALSE)),"",HLOOKUP($A27,'Decision Sheet'!$F$2:$Q$12,F$1+$B$1,FALSE)) | I27: =IF(ISBLANK('Decision Sheet'!H9),"",'Decision Sheet'!H9) | J27: =IF(ISBLANK('Decision Sheet'!I9),"",'Decision Sheet'!I9) | K27: =IF(ISBLANK('Decision Sheet'!J9),"",'Decision Sheet'!J9) | L27: =IF(ISBLANK('Decision Sheet'!K9),"",'Decision Sheet'!K9) | M27: =IF(ISBLANK('Decision Sheet'!L9),"",'Decision Sheet'!L9) | N27: =IF(ISBLANK('Decision Sheet'!M9),"",'Decision Sheet'!M9) | O27: =IF(ISBLANK('Decision Sheet'!N9),"",'Decision Sheet'!N9) | P27: =IF(ISBLANK('Decision Sheet'!O9),"",'Decision Sheet'!O9) | ... R27: =IF(ISBLANK('Decision Sheet'!Q9),"",'Decision Sheet'!Q9) | S27: =IF(ISBLANK('Decision Sheet'!R3),"",'Decision Sheet'!R3) | T27: =IF(ISBLANK('Decision Sheet'!S3),"",'Decision Sheet'!S3) | U27: =IF(ISBLANK('Decision Sheet'!T3),"",'Decision Sheet'!T3)
A28: Period 2 | B28: 42767 | C28: =IF(ISBLANK(HLOOKUP($A28,'Decision Sheet'!$F$2:$Q$12,C$1+$B$1,FALSE)),"",HLOOKUP($A28,'Decision Sheet'!$F$2:$Q$12,C$1+$B$1,FALSE)) | D28: =IF(ISBLANK(HLOOKUP($A28,'Decision Sheet'!$F$2:$Q$12,D$1+$B$1,FALSE)),"",HLOOKUP($A28,'Decision Sheet'!$F$2:$Q$12,D$1+$B$1,FALSE)) | E28: =IF(ISBLANK(HLOOKUP($A28,'Decision Sheet'!$F$2:$Q$12,E$1+$B$1,FALSE)),"",HLOOKUP($A28,'Decision Sheet'!$F$2:$Q$12,E$1+$B$1,FALSE)) | F28: =IF(ISBLANK(HLOOKUP($A28,'Decision Sheet'!$F$2:$Q$12,F$1+$B$1,FALSE)),"",HLOOKUP($A28,'Decision Sheet'!$F$2:$Q$12,F$1+$B$1,FALSE)) | I28: =IF(ISBLANK('Decision Sheet'!H10),"",'Decision Sheet'!H10) | J28: =IF(ISBLANK('Decision Sheet'!I10),"",'Decision Sheet'!I10) | K28: =IF(ISBLANK('Decision Sheet'!J10),"",'Decision Sheet'!J10) | L28: =IF(ISBLANK('Decision Sheet'!K10),"",'Decision Sheet'!K10) | M28: =IF(ISBLANK('Decision Sheet'!L10),"",'Decision Sheet'!L10) | N28: =IF(ISBLANK('Decision Sheet'!M10),"",'Decision Sheet'!M10) | O28: =IF(ISBLANK('Decision Sheet'!N10),"",'Decision Sheet'!N10) | P28: =IF(ISBLANK('Decision Sheet'!O10),"",'Decision Sheet'!O10) | ... R28: =IF(ISBLANK('Decision Sheet'!Q10),"",'Decision Sheet'!Q10) | S28: =IF(ISBLANK('Decision Sheet'!R4),"",'Decision Sheet'!R4) | T28: =IF(ISBLANK('Decision Sheet'!S4),"",'Decision Sheet'!S4) | U28: =IF(ISBLANK('Decision Sheet'!T4),"",'Decision Sheet'!T4)
A29: Period 3 | B29: 42795 | C29: =IF(ISBLANK(HLOOKUP($A29,'Decision Sheet'!$F$2:$Q$12,C$1+$B$1,FALSE)),"",HLOOKUP($A29,'Decision Sheet'!$F$2:$Q$12,C$1+$B$1,FALSE)) | D29: =IF(ISBLANK(HLOOKUP($A29,'Decision Sheet'!$F$2:$Q$12,D$1+$B$1,FALSE)),"",HLOOKUP($A29,'Decision Sheet'!$F$2:$Q$12,D$1+$B$1,FALSE)) | E29: =IF(ISBLANK(HLOOKUP($A29,'Decision Sheet'!$F$2:$Q$12,E$1+$B$1,FALSE)),"",HLOOKUP($A29,'Decision Sheet'!$F$2:$Q$12,E$1+$B$1,FALSE)) | F29: =IF(ISBLANK(HLOOKUP($A29,'Decision Sheet'!$F$2:$Q$12,F$1+$B$1,FALSE)),"",HLOOKUP($A29,'Decision Sheet'!$F$2:$Q$12,F$1+$B$1,FALSE)) | I29: =IF(ISBLANK('Decision Sheet'!H11),"",'Decision Sheet'!H11) | J29: =IF(ISBLANK('Decision Sheet'!I11),"",'Decision Sheet'!I11) | K29: =IF(ISBLANK('Decision Sheet'!J11),"",'Decision Sheet'!J11) | L29: =IF(ISBLANK('Decision Sheet'!K11),"",'Decision Sheet'!K11) | M29: =IF(ISBLANK('Decision Sheet'!L11),"",'Decision Sheet'!L11) | N29: =IF(ISBLANK('Decision Sheet'!M11),"",'Decision Sheet'!M11) | O29: =IF(ISBLANK('Decision Sheet'!N11),"",'Decision Sheet'!N11) | P29: =IF(ISBLANK('Decision Sheet'!O11),"",'Decision Sheet'!O11) | ... R29: =IF(ISBLANK('Decision Sheet'!Q11),"",'Decision Sheet'!Q11) | S29: =IF(ISBLANK('Decision Sheet'!R5),"",'Decision Sheet'!R5) | T29: =IF(ISBLANK('Decision Sheet'!S5),"",'Decision Sheet'!S5) | U29: =IF(ISBLANK('Decision Sheet'!T5),"",'Decision Sheet'!T5)
A30: Period 4 | B30: 42826 | C30: =IF(ISBLANK(HLOOKUP($A30,'Decision Sheet'!$F$2:$Q$12,C$1+$B$1,FALSE)),"",HLOOKUP($A30,'Decision Sheet'!$F$2:$Q$12,C$1+$B$1,FALSE)) | D30: =IF(ISBLANK(HLOOKUP($A30,'Decision Sheet'!$F$2:$Q$12,D$1+$B$1,FALSE)),"",HLOOKUP($A30,'Decision Sheet'!$F$2:$Q$12,D$1+$B$1,FALSE)) | E30: =IF(ISBLANK(HLOOKUP($A30,'Decision Sheet'!$F$2:$Q$12,E$1+$B$1,FALSE)),"",HLOOKUP($A30,'Decision Sheet'!$F$2:$Q$12,E$1+$B$1,FALSE)) | F30: =IF(ISBLANK(HLOOKUP($A30,'Decision Sheet'!$F$2:$Q$12,F$1+$B$1,FALSE)),"",HLOOKUP($A30,'Decision Sheet'!$F$2:$Q$12,F$1+$B$1,FALSE)) | I30: =IF(ISBLANK('Decision Sheet'!H12),"",'Decision Sheet'!H12) | J30: =IF(ISBLANK('Decision Sheet'!I12),"",'Decision Sheet'!I12) | K30: =IF(ISBLANK('Decision Sheet'!J12),"",'Decision Sheet'!J12) | L30: =IF(ISBLANK('Decision Sheet'!K12),"",'Decision Sheet'!K12) | M30: =IF(ISBLANK('Decision Sheet'!L12),"",'Decision Sheet'!L12) | N30: =IF(ISBLANK('Decision Sheet'!M12),"",'Decision Sheet'!M12) | O30: =IF(ISBLANK('Decision Sheet'!N12),"",'Decision Sheet'!N12) | P30: =IF(ISBLANK('Decision Sheet'!O12),"",'Decision Sheet'!O12) | ... R30: =IF(ISBLANK('Decision Sheet'!Q12),"",'Decision Sheet'!Q12) | S30: =IF(ISBLANK('Decision Sheet'!R6),"",'Decision Sheet'!R6) | T30: =IF(ISBLANK('Decision Sheet'!S6),"",'Decision Sheet'!S6) | U30: =IF(ISBLANK('Decision Sheet'!T6),"",'Decision Sheet'!T6)
A31: Period 5 | B31: 42856 | C31: =IF(ISBLANK(HLOOKUP($A31,'Decision Sheet'!$F$2:$Q$12,C$1+$B$1,FALSE)),"",HLOOKUP($A31,'Decision Sheet'!$F$2:$Q$12,C$1+$B$1,FALSE)) | D31: =IF(ISBLANK(HLOOKUP($A31,'Decision Sheet'!$F$2:$Q$12,D$1+$B$1,FALSE)),"",HLOOKUP($A31,'Decision Sheet'!$F$2:$Q$12,D$1+$B$1,FALSE)) | E31: =IF(ISBLANK(HLOOKUP($A31,'Decision Sheet'!$F$2:$Q$12,E$1+$B$1,FALSE)),"",HLOOKUP($A31,'Decision Sheet'!$F$2:$Q$12,E$1+$B$1,FALSE)) | F31: =IF(ISBLANK(HLOOKUP($A31,'Decision Sheet'!$F$2:$Q$12,F$1+$B$1,FALSE)),"",HLOOKUP($A31,'Decision Sheet'!$F$2:$Q$12,F$1+$B$1,FALSE)) | P31: Period 5 | Q31: =$G31*RANDBETWEEN(30,50)/100 -> 0 | R31: =$G31*RANDBETWEEN(20,30)/100 -> 0 | S31: =$G31*RANDBETWEEN(10,20)/100 -> 0 | T31: =$G31*RANDBETWEEN(5,15)/100 -> 0 | U31: =F32+RANDBETWEEN(-2,4)*100 -> #VALUE!
A32: Period 6 | B32: 42887 | C32: =IF(ISBLANK(HLOOKUP($A32,'Decision Sheet'!$F$2:$Q$12,C$1+$B$1,FALSE)),"",HLOOKUP($A32,'Decision Sheet'!$F$2:$Q$12,C$1+$B$1,FALSE)) | D32: =IF(ISBLANK(HLOOKUP($A32,'Decision Sheet'!$F$2:$Q$12,D$1+$B$1,FALSE)),"",HLOOKUP($A32,'Decision Sheet'!$F$2:$Q$12,D$1+$B$1,FALSE)) | E32: =IF(ISBLANK(HLOOKUP($A32,'Decision Sheet'!$F$2:$Q$12,E$1+$B$1,FALSE)),"",HLOOKUP($A32,'Decision Sheet'!$F$2:$Q$12,E$1+$B$1,FALSE)) | F32: =IF(ISBLANK(HLOOKUP($A32,'Decision Sheet'!$F$2:$Q$12,F$1+$B$1,FALSE)),"",HLOOKUP($A32,'Decision Sheet'!$F$2:$Q$12,F$1+$B$1,FALSE)) | P32: Period 6 | Q32: =$G32*RANDBETWEEN(30,50)/100 -> 0 | R32: =$G32*RANDBETWEEN(20,30)/100 -> 0 | S32: =$G32*RANDBETWEEN(10,20)/100 -> 0 | T32: =$G32*RANDBETWEEN(5,15)/100 -> 0 | U32: =U31+RANDBETWEEN(-2,4)*100 -> #VALUE!
A33: Period 7 | B33: 42917 | C33: =IF(ISBLANK(HLOOKUP($A33,'Decision Sheet'!$F$2:$Q$12,C$1+$B$1,FALSE)),"",HLOOKUP($A33,'Decision Sheet'!$F$2:$Q$12,C$1+$B$1,FALSE)) | D33: =IF(ISBLANK(HLOOKUP($A33,'Decision Sheet'!$F$2:$Q$12,D$1+$B$1,FALSE)),"",HLOOKUP($A33,'Decision Sheet'!$F$2:$Q$12,D$1+$B$1,FALSE)) | E33: =IF(ISBLANK(HLOOKUP($A33,'Decision Sheet'!$F$2:$Q$12,E$1+$B$1,FALSE)),"",HLOOKUP($A33,'Decision Sheet'!$F$2:$Q$12,E$1+$B$1,FALSE)) | F33: =IF(ISBLANK(HLOOKUP($A33,'Decision Sheet'!$F$2:$Q$12,F$1+$B$1,FALSE)),"",HLOOKUP($A33,'Decision Sheet'!$F$2:$Q$12,F$1+$B$1,FALSE)) | P33: Period 7 | Q33: =$G33*RANDBETWEEN(30,50)/100 -> 0 | R33: =$G33*RANDBETWEEN(20,30)/100 -> 0 | S33: =$G33*RANDBETWEEN(10,20)/100 -> 0 | T33: =$G33*RANDBETWEEN(5,15)/100 -> 0 | U33: =U32+RANDBETWEEN(-2,4)*100 -> #VALUE!
A34: Period 8 | B34: 42948 | C34: =IF(ISBLANK(HLOOKUP($A34,'Decision Sheet'!$F$2:$Q$12,C$1+$B$1,FALSE)),"",HLOOKUP($A34,'Decision Sheet'!$F$2:$Q$12,C$1+$B$1,FALSE)) | D34: =IF(ISBLANK(HLOOKUP($A34,'Decision Sheet'!$F$2:$Q$12,D$1+$B$1,FALSE)),"",HLOOKUP($A34,'Decision Sheet'!$F$2:$Q$12,D$1+$B$1,FALSE)) | E34: =IF(ISBLANK(HLOOKUP($A34,'Decision Sheet'!$F$2:$Q$12,E$1+$B$1,FALSE)),"",HLOOKUP($A34,'Decision Sheet'!$F$2:$Q$12,E$1+$B$1,FALSE)) | F34: =IF(ISBLANK(HLOOKUP($A34,'Decision Sheet'!$F$2:$Q$12,F$1+$B$1,FALSE)),"",HLOOKUP($A34,'Decision Sheet'!$F$2:$Q$12,F$1+$B$1,FALSE)) | P34: Period 8 | Q34: =$G34*RANDBETWEEN(30,50)/100 -> 0 | R34: =$G34*RANDBETWEEN(20,30)/100 -> 0 | S34: =$G34*RANDBETWEEN(10,20)/100 -> 0 | T34: =$G34*RANDBETWEEN(5,15)/100 -> 0 | U34: =U33+RANDBETWEEN(-2,4)*100 -> #VALUE!
A35: Period 9 | B35: 42979 | C35: =IF(ISBLANK(HLOOKUP($A35,'Decision Sheet'!$F$2:$Q$12,C$1+$B$1,FALSE)),"",HLOOKUP($A35,'Decision Sheet'!$F$2:$Q$12,C$1+$B$1,FALSE)) | D35: =IF(ISBLANK(HLOOKUP($A35,'Decision Sheet'!$F$2:$Q$12,D$1+$B$1,FALSE)),"",HLOOKUP($A35,'Decision Sheet'!$F$2:$Q$12,D$1+$B$1,FALSE)) | E35: =IF(ISBLANK(HLOOKUP($A35,'Decision Sheet'!$F$2:$Q$12,E$1+$B$1,FALSE)),"",HLOOKUP($A35,'Decision Sheet'!$F$2:$Q$12,E$1+$B$1,FALSE)) | F35: =IF(ISBLANK(HLOOKUP($A35,'Decision Sheet'!$F$2:$Q$12,F$1+$B$1,FALSE)),"",HLOOKUP($A35,'Decision Sheet'!$F$2:$Q$12,F$1+$B$1,FALSE)) | P35: Period 9 | Q35: =$G35*RANDBETWEEN(30,50)/100 -> 0 | R35: =$G35*RANDBETWEEN(20,30)/100 -> 0 | S35: =$G35*RANDBETWEEN(10,20)/100 -> 0 | T35: =$G35*RANDBETWEEN(5,15)/100 -> 0 | U35: =U34+RANDBETWEEN(-2,4)*100 -> #VALUE!
A36: Period 10 | B36: 43009 | C36: =IF(ISBLANK(HLOOKUP($A36,'Decision Sheet'!$F$2:$Q$12,C$1+$B$1,FALSE)),"",HLOOKUP($A36,'Decision Sheet'!$F$2:$Q$12,C$1+$B$1,FALSE)) | D36: =IF(ISBLANK(HLOOKUP($A36,'Decision Sheet'!$F$2:$Q$12,D$1+$B$1,FALSE)),"",HLOOKUP($A36,'Decision Sheet'!$F$2:$Q$12,D$1+$B$1,FALSE)) | E36: =IF(ISBLANK(HLOOKUP($A36,'Decision Sheet'!$F$2:$Q$12,E$1+$B$1,FALSE)),"",HLOOKUP($A36,'Decision Sheet'!$F$2:$Q$12,E$1+$B$1,FALSE)) | F36: =IF(ISBLANK(HLOOKUP($A36,'Decision Sheet'!$F$2:$Q$12,F$1+$B$1,FALSE)),"",HLOOKUP($A36,'Decision Sheet'!$F$2:$Q$12,F$1+$B$1,FALSE)) | P36: Period 10 | Q36: =$G36*RANDBETWEEN(30,50)/100 -> 0 | R36: =$G36*RANDBETWEEN(20,30)/100 -> 0 | S36: =$G36*RANDBETWEEN(10,20)/100 -> 0 | T36: =$G36*RANDBETWEEN(5,15)/100 -> 0 | U36: =U35+RANDBETWEEN(-2,4)*100 -> #VALUE!
A37: Period 11 | B37: 43040 | C37: =IF(ISBLANK(HLOOKUP($A37,'Decision Sheet'!$F$2:$Q$12,C$1+$B$1,FALSE)),"",HLOOKUP($A37,'Decision Sheet'!$F$2:$Q$12,C$1+$B$1,FALSE)) | D37: =IF(ISBLANK(HLOOKUP($A37,'Decision Sheet'!$F$2:$Q$12,D$1+$B$1,FALSE)),"",HLOOKUP($A37,'Decision Sheet'!$F$2:$Q$12,D$1+$B$1,FALSE)) | E37: =IF(ISBLANK(HLOOKUP($A37,'Decision Sheet'!$F$2:$Q$12,E$1+$B$1,FALSE)),"",HLOOKUP($A37,'Decision Sheet'!$F$2:$Q$12,E$1+$B$1,FALSE)) | F37: =IF(ISBLANK(HLOOKUP($A37,'Decision Sheet'!$F$2:$Q$12,F$1+$B$1,FALSE)),"",HLOOKUP($A37,'Decision Sheet'!$F$2:$Q$12,F$1+$B$1,FALSE)) | P37: Period 11 | Q37: =$G37*RANDBETWEEN(30,50)/100 -> 0 | R37: =$G37*RANDBETWEEN(20,30)/100 -> 0 | S37: =$G37*RANDBETWEEN(10,20)/100 -> 0 | T37: =$G37*RANDBETWEEN(5,15)/100 -> 0 | U37: =U36+RANDBETWEEN(-2,4)*100 -> #VALUE!
A38: Period 12 | B38: 43070 | C38: =IF(ISBLANK(HLOOKUP($A38,'Decision Sheet'!$F$2:$Q$12,C$1+$B$1,FALSE)),"",HLOOKUP($A38,'Decision Sheet'!$F$2:$Q$12,C$1+$B$1,FALSE)) | D38: =IF(ISBLANK(HLOOKUP($A38,'Decision Sheet'!$F$2:$Q$12,D$1+$B$1,FALSE)),"",HLOOKUP($A38,'Decision Sheet'!$F$2:$Q$12,D$1+$B$1,FALSE)) | E38: =IF(ISBLANK(HLOOKUP($A38,'Decision Sheet'!$F$2:$Q$12,E$1+$B$1,FALSE)),"",HLOOKUP($A38,'Decision Sheet'!$F$2:$Q$12,E$1+$B$1,FALSE)) | F38: =IF(ISBLANK(HLOOKUP($A38,'Decision Sheet'!$F$2:$Q$12,F$1+$B$1,FALSE)),"",HLOOKUP($A38,'Decision Sheet'!$F$2:$Q$12,F$1+$B$1,FALSE)) | P38: Period 12 | Q38: =$G38*RANDBETWEEN(30,50)/100 -> 0 | R38: =$G38*RANDBETWEEN(20,30)/100 -> 0 | S38: =$G38*RANDBETWEEN(10,20)/100 -> 0 | T38: =$G38*RANDBETWEEN(5,15)/100 -> 0 | U38: =U37+RANDBETWEEN(-2,4)*100 -> #VALUE!
C39: Automatically Updates from Decision Sheet

Sheet PerformanceSheet
F1: Product A | G1: Product B | H1: Product C | I1: Product D | J1: Detailed Finances | K1: Product A | W1: Product B | AI1: Product C | AU1: Product D
A2: Period | B2: Total | C2: Supplier Fixed Costs | D2: Supplier Period Costs | E2: Period Adjustments | F2: Net | G2: Net | H2: Net | I2: Net | K2: Ending Inventory | L2: Units Purchased | M2: Price (cost) | N2: Purchasing Expenditures | O2: ICC | P2: Sales (units) | Q2: Price(sale) | R2: Manufacturing Cost | S2: Revenue | T2: Inventory Expenses | U2: Manufacturing Expenses (COGS Labor only) | V2: Unfulfilled Demand Penalty | W2: Ending Inventory | X2: Units Purchased | Y2: Price (cost) | Z2: Purchasing Expenditures | AA2: ICC | AB2: Sales (units) | AC2: Price(sale) | AD2: Manufacturing Cost | AE2: Revenue | AF2: Inventory Expenses | AG2: Manufacturing Expenses (COGS Labor only) | AH2: Unfulfilled Demand Penalty | AI2: Ending Inventory | AJ2: Units Purchased | AK2: Price (cost) | AL2: Purchasing Expenditures | AM2: ICC | AN2: Sales (units) | AO2: Price(sale) | AP2: Manufacturing Cost | AQ2: Revenue | AR2: Inventory Expenses | AS2: Manufacturing Expenses (COGS Labor only) | AT2: Unfulfilled Demand Penalty | AU2: Ending Inventory | AV2: Units Purchased | AW2: Price (cost) | AX2: Purchasing Expenditures | AY2: ICC | AZ2: Sales (units) | BA2: Price(sale) | BB2: Manufacturing Cost | BC2: Revenue | BD2: Inventory Expenses | BE2: Manufacturing Expenses (COGS Labor only) | BF2: Unfulfilled Demand Penalty
A3: 1 | B3: =IFERROR(F3+C3+D3+E3+G3+H3+I3,"") | C3: ='Supplier Management Sheet'!P47 -> 0 | D3: ='Supplier Management Sheet'!P32 -> 0 | E3: 0 | F3: =IFERROR(S3-T3-U3-V3,"") | G3: =IFERROR(AE3-AF3-AG3-AH3,"") | H3: =IFERROR(AQ3-AR3-AS3-AT3,"") | I3: =IFERROR(BC3-BD3-BE3-BF3,"") | K3: ='Product A Inventory Sheet'!J9 | L3: =IFERROR('Product A Inventory Sheet'!K9+'Product A Inventory Sheet'!K8+'Product A Inventory Sheet'!K7,"") | M3: ='Product Pricing Sheet'!C4+'Product Pricing Sheet'!D4 -> #VALUE! | N3: =IFERROR(L3*M3,"") | O3: =IFERROR(M3*K3*'Product Pricing Sheet'!G4,"") | P3: ='Product A Inventory Sheet'!H9 | Q3: ='Product Pricing Sheet'!F4 -> 15 | R3: ='Product Pricing Sheet'!E4 -> 5 | S3: =Q3*P3 -> #VALUE! | T3: =IFERROR(L3+O3,) -> 0 | U3: =R3*P3 -> #VALUE! | V3: ='Product A Inventory Sheet'!I9*5 -> #VALUE! | W3: ='Product B Inventory Sheet'!$J9 | X3: ='Product B Inventory Sheet'!$K9+'Product B Inventory Sheet'!$K8+'Product B Inventory Sheet'!$K7 -> #VALUE! | Y3: ='Product Pricing Sheet'!$C20+'Product Pricing Sheet'!$D20 -> #VALUE! | Z3: =IFERROR(X3*Y3,"") | AA3: =IFERROR(Y3*W3*'Product Pricing Sheet'!$G20,"") | AB3: ='Product B Inventory Sheet'!$H9 | AC3: ='Product Pricing Sheet'!$F20 -> 15 | AD3: ='Product Pricing Sheet'!$E20 -> 5 | AE3: =AC3*AB3 -> #VALUE! | AF3: =IFERROR(X3+AA3,) -> 0 | AG3: =AD3*AB3 -> #VALUE! | AH3: ='Product B Inventory Sheet'!I9*5 -> #VALUE! | AI3: ='Product C Inventory Sheet'!$J9 | AJ3: ='Product C Inventory Sheet'!$K9+'Product C Inventory Sheet'!$K8+'Product C Inventory Sheet'!$K7 -> #VALUE! | AK3: ='Product Pricing Sheet'!$C36+'Product Pricing Sheet'!$D36 -> #VALUE! | AL3: =IFERROR(AJ3*AK3,"") | AM3: =IFERROR(AK3*AI3*'Product Pricing Sheet'!$G36,"") | AN3: ='Product C Inventory Sheet'!$H9 | AO3: ='Product Pricing Sheet'!$F36 -> 15 | AP3: ='Product Pricing Sheet'!$E36 -> 5 | AQ3: =AO3*AN3 -> #VALUE! | AR3: =IFERROR(AJ3+AM3,) -> 0 | AS3: =AP3*AN3 -> #VALUE! | AT3: ='Product C Inventory Sheet'!I9*5 -> #VALUE! | AU3: ='Product D Inventory Sheet'!$J9 | AV3: ='Product D Inventory Sheet'!$K9+'Product D Inventory Sheet'!$K8+'Product D Inventory Sheet'!$K7 -> #VALUE! | AW3: ='Product Pricing Sheet'!$C52+'Product Pricing Sheet'!$D52 -> #VALUE! | AX3: =IFERROR(AV3*AW3,"") | AY3: =IFERROR(AW3*AU3*'Product Pricing Sheet'!$G52,"") | AZ3: ='Product D Inventory Sheet'!$H9 | BA3: ='Product Pricing Sheet'!$F52 -> 40 | BB3: ='Product Pricing Sheet'!$E52 -> 10 | BC3: =BA3*AZ3 -> #VALUE! | BD3: =IFERROR(AV3+AY3,) -> 0 | BE3: =BB3*AZ3 -> #VALUE! | BF3: ='Product D Inventory Sheet'!I9*5 -> #VALUE!
A4: 2 | B4: =IFERROR(F4+C4+D4+E4+G4+H4+I4,"") | C4: ='Supplier Management Sheet'!P48 -> 0 | D4: ='Supplier Management Sheet'!P33 -> 0 | E4: 0 | F4: =IFERROR(S4-T4-U4-V4,"") | G4: =IFERROR(AE4-AF4-AG4-AH4,"") | H4: =IFERROR(AQ4-AR4-AS4-AT4,"") | I4: =IFERROR(BC4-BD4-BE4-BF4,"") | K4: ='Product A Inventory Sheet'!J10 | L4: ='Product A Inventory Sheet'!K10 | M4: ='Product Pricing Sheet'!C5+'Product Pricing Sheet'!D5 -> #VALUE! | N4: =IFERROR(L4*M4,"") | O4: =IFERROR(M4*K4*'Product Pricing Sheet'!G5,"") | P4: ='Product A Inventory Sheet'!H10 | Q4: ='Product Pricing Sheet'!F5 -> 15 | R4: ='Product Pricing Sheet'!E5 -> 5 | S4: =Q4*P4 -> #VALUE! | T4: =IFERROR(L4+O4,) -> 0 | U4: =R4*P4 -> #VALUE! | V4: ='Product A Inventory Sheet'!I10*5 -> #VALUE! | W4: ='Product B Inventory Sheet'!$J10 | X4: ='Product B Inventory Sheet'!$K10+'Product B Inventory Sheet'!$K9+'Product B Inventory Sheet'!$K8 -> #VALUE! | Y4: ='Product Pricing Sheet'!$C21+'Product Pricing Sheet'!$D21 -> #VALUE! | Z4: =IFERROR(X4*Y4,"") | AA4: =IFERROR(Y4*W4*'Product Pricing Sheet'!$G21,"") | AB4: ='Product B Inventory Sheet'!$H10 | AC4: ='Product Pricing Sheet'!$F21 -> 15 | AD4: ='Product Pricing Sheet'!$E21 -> 5 | AE4: =AC4*AB4 -> #VALUE! | AF4: =IFERROR(X4+AA4,) -> 0 | AG4: =AD4*AB4 -> #VALUE! | AH4: ='Product B Inventory Sheet'!I10*5 -> #VALUE! | AI4: ='Product C Inventory Sheet'!$J10 | AJ4: ='Product C Inventory Sheet'!$K10+'Product C Inventory Sheet'!$K9+'Product C Inventory Sheet'!$K8 -> #VALUE! | AK4: ='Product Pricing Sheet'!$C37+'Product Pricing Sheet'!$D37 -> #VALUE! | AL4: =IFERROR(AJ4*AK4,"") | AM4: =IFERROR(AK4*AI4*'Product Pricing Sheet'!$G37,"") | AN4: ='Product C Inventory Sheet'!$H10 | AO4: ='Product Pricing Sheet'!$F37 -> 15 | AP4: ='Product Pricing Sheet'!$E37 -> 5 | AQ4: =AO4*AN4 -> #VALUE! | AR4: =IFERROR(AJ4+AM4,) -> 0 | AS4: =AP4*AN4 -> #VALUE! | AT4: ='Product C Inventory Sheet'!I10*5 -> #VALUE! | AU4: ='Product D Inventory Sheet'!$J10 | AV4: ='Product D Inventory Sheet'!$K10+'Product D Inventory Sheet'!$K9+'Product D Inventory Sheet'!$K8 -> #VALUE! | AW4: ='Product Pricing Sheet'!$C53+'Product Pricing Sheet'!$D53 -> #VALUE! | AX4: =IFERROR(AV4*AW4,"") | AY4: =IFERROR(AW4*AU4*'Product Pricing Sheet'!$G53,"") | AZ4: ='Product D Inventory Sheet'!$H10 | BA4: ='Product Pricing Sheet'!$F53 -> 40 | BB4: ='Product Pricing Sheet'!$E53 -> 10 | BC4: =BA4*AZ4 -> #VALUE! | BD4: =IFERROR(AV4+AY4,) -> 0 | BE4: =BB4*AZ4 -> #VALUE! | BF4: ='Product D Inventory Sheet'!I10*5 -> #VALUE!
A5: 3 | B5: =IFERROR(F5+C5+D5+E5+G5+H5+I5,"") | C5: ='Supplier Management Sheet'!P49 -> 0 | D5: ='Supplier Management Sheet'!P34 -> 0 | E5: 0 | F5: =IFERROR(S5-T5-U5-V5,"") | G5: =IFERROR(AE5-AF5-AG5-AH5,"") | H5: =IFERROR(AQ5-AR5-AS5-AT5,"") | I5: =IFERROR(BC5-BD5-BE5-BF5,"") | K5: ='Product A Inventory Sheet'!J11 | L5: ='Product A Inventory Sheet'!K11 | M5: ='Product Pricing Sheet'!C6+'Product Pricing Sheet'!D6 -> #VALUE! | N5: =IFERROR(L5*M5,"") | O5: =IFERROR(M5*K5*'Product Pricing Sheet'!G6,"") | P5: ='Product A Inventory Sheet'!H11 | Q5: ='Product Pricing Sheet'!F6 -> 15 | R5: ='Product Pricing Sheet'!E6 -> 5 | S5: =Q5*P5 -> #VALUE! | T5: =IFERROR(L5+O5,) -> 0 | U5: =R5*P5 -> #VALUE! | V5: ='Product A Inventory Sheet'!I11*5 -> #VALUE! | W5: ='Product B Inventory Sheet'!$J11 | X5: ='Product B Inventory Sheet'!$K11+'Product B Inventory Sheet'!$K10+'Product B Inventory Sheet'!$K9 -> #VALUE! | Y5: ='Product Pricing Sheet'!$C22+'Product Pricing Sheet'!$D22 -> #VALUE! | Z5: =IFERROR(X5*Y5,"") | AA5: =IFERROR(Y5*W5*'Product Pricing Sheet'!$G22,"") | AB5: ='Product B Inventory Sheet'!$H11 | AC5: ='Product Pricing Sheet'!$F22 -> 15 | AD5: ='Product Pricing Sheet'!$E22 -> 5 | AE5: =AC5*AB5 -> #VALUE! | AF5: =IFERROR(X5+AA5,) -> 0 | AG5: =AD5*AB5 -> #VALUE! | AH5: ='Product B Inventory Sheet'!I11*5 -> #VALUE! | AI5: ='Product C Inventory Sheet'!$J11 | AJ5: ='Product C Inventory Sheet'!$K11+'Product C Inventory Sheet'!$K10+'Product C Inventory Sheet'!$K9 -> #VALUE! | AK5: ='Product Pricing Sheet'!$C38+'Product Pricing Sheet'!$D38 -> #VALUE! | AL5: =IFERROR(AJ5*AK5,"") | AM5: =IFERROR(AK5*AI5*'Product Pricing Sheet'!$G38,"") | AN5: ='Product C Inventory Sheet'!$H11 | AO5: ='Product Pricing Sheet'!$F38 -> 15 | AP5: ='Product Pricing Sheet'!$E38 -> 5 | AQ5: =AO5*AN5 -> #VALUE! | AR5: =IFERROR(AJ5+AM5,) -> 0 | AS5: =AP5*AN5 -> #VALUE! | AT5: ='Product C Inventory Sheet'!I11*5 -> #VALUE! | AU5: ='Product D Inventory Sheet'!$J11 | AV5: ='Product D Inventory Sheet'!$K11+'Product D Inventory Sheet'!$K10+'Product D Inventory Sheet'!$K9 -> #VALUE! | AW5: ='Product Pricing Sheet'!$C54+'Product Pricing Sheet'!$D54 -> #VALUE! | AX5: =IFERROR(AV5*AW5,"") | AY5: =IFERROR(AW5*AU5*'Product Pricing Sheet'!$G54,"") | AZ5: ='Product D Inventory Sheet'!$H11 | BA5: ='Product Pricing Sheet'!$F54 -> 40 | BB5: ='Product Pricing Sheet'!$E54 -> 10 | BC5: =BA5*AZ5 -> #VALUE! | BD5: =IFERROR(AV5+AY5,) -> 0 | BE5: =BB5*AZ5 -> #VALUE! | BF5: ='Product D Inventory Sheet'!I11*5 -> #VALUE!
A6: 4 | B6: =IFERROR(F6+C6+D6+E6+G6+H6+I6,"") | C6: ='Supplier Management Sheet'!P50 -> 0 | D6: ='Supplier Management Sheet'!P35 -> 0 | E6: 0 | F6: =IFERROR(S6-T6-U6-V6,"") | G6: =IFERROR(AE6-AF6-AG6-AH6,"") | H6: =IFERROR(AQ6-AR6-AS6-AT6,"") | I6: =IFERROR(BC6-BD6-BE6-BF6,"") | K6: ='Product A Inventory Sheet'!J12 | L6: ='Product A Inventory Sheet'!K12 | M6: ='Product Pricing Sheet'!C7+'Product Pricing Sheet'!D7 -> #VALUE! | N6: =IFERROR(L6*M6,"") | O6: =IFERROR(M6*K6*'Product Pricing Sheet'!G7,"") | P6: ='Product A Inventory Sheet'!H12 | Q6: ='Product Pricing Sheet'!F7 -> 15 | R6: ='Product Pricing Sheet'!E7 -> 5 | S6: =Q6*P6 -> #VALUE! | T6: =IFERROR(L6+O6,) -> 0 | U6: =R6*P6 -> #VALUE! | V6: ='Product A Inventory Sheet'!I12*5 -> #VALUE! | W6: ='Product B Inventory Sheet'!$J12 | X6: ='Product B Inventory Sheet'!$K12+'Product B Inventory Sheet'!$K11+'Product B Inventory Sheet'!$K10 -> #VALUE! | Y6: ='Product Pricing Sheet'!$C23+'Product Pricing Sheet'!$D23 -> #VALUE! | Z6: =IFERROR(X6*Y6,"") | AA6: =IFERROR(Y6*W6*'Product Pricing Sheet'!$G23,"") | AB6: ='Product B Inventory Sheet'!$H12 | AC6: ='Product Pricing Sheet'!$F23 -> 15 | AD6: ='Product Pricing Sheet'!$E23 -> 5 | AE6: =AC6*AB6 -> #VALUE! | AF6: =IFERROR(X6+AA6,) -> 0 | AG6: =AD6*AB6 -> #VALUE! | AH6: ='Product B Inventory Sheet'!I12*5 -> #VALUE! | AI6: ='Product C Inventory Sheet'!$J12 | AJ6: ='Product C Inventory Sheet'!$K12+'Product C Inventory Sheet'!$K11+'Product C Inventory Sheet'!$K10 -> #VALUE! | AK6: ='Product Pricing Sheet'!$C39+'Product Pricing Sheet'!$D39 -> #VALUE! | AL6: =IFERROR(AJ6*AK6,"") | AM6: =IFERROR(AK6*AI6*'Product Pricing Sheet'!$G39,"") | AN6: ='Product C Inventory Sheet'!$H12 | AO6: ='Product Pricing Sheet'!$F39 -> 15 | AP6: ='Product Pricing Sheet'!$E39 -> 5 | AQ6: =AO6*AN6 -> #VALUE! | AR6: =IFERROR(AJ6+AM6,) -> 0 | AS6: =AP6*AN6 -> #VALUE! | AT6: ='Product C Inventory Sheet'!I12*5 -> #VALUE! | AU6: ='Product D Inventory Sheet'!$J12 | AV6: ='Product D Inventory Sheet'!$K12+'Product D Inventory Sheet'!$K11+'Product D Inventory Sheet'!$K10 -> #VALUE! | AW6: ='Product Pricing Sheet'!$C55+'Product Pricing Sheet'!$D55 -> #VALUE! | AX6: =IFERROR(AV6*AW6,"") | AY6: =IFERROR(AW6*AU6*'Product Pricing Sheet'!$G55,"") | AZ6: ='Product D Inventory Sheet'!$H12 | BA6: ='Product Pricing Sheet'!$F55 -> 40 | BB6: ='Product Pricing Sheet'!$E55 -> 10 | BC6: =BA6*AZ6 -> #VALUE! | BD6: =IFERROR(AV6+AY6,) -> 0 | BE6: =BB6*AZ6 -> #VALUE! | BF6: ='Product D Inventory Sheet'!I12*5 -> #VALUE!
A7: 5 | B7: =IFERROR(F7+C7+D7+E7+G7+H7+I7,"") | C7: ='Supplier Management Sheet'!P51 -> 0 | D7: ='Supplier Management Sheet'!P36 -> 0 | E7: 0 | F7: =IFERROR(S7-T7-U7-V7,"") | G7: =IFERROR(AE7-AF7-AG7-AH7,"") | H7: =IFERROR(AQ7-AR7-AS7-AT7,"") | I7: =IFERROR(BC7-BD7-BE7-BF7,"") | K7: ='Product A Inventory Sheet'!J13 | L7: ='Product A Inventory Sheet'!K13 | M7: ='Product Pricing Sheet'!C8+'Product Pricing Sheet'!D8 -> #VALUE! | N7: =IFERROR(L7*M7,"") | O7: =IFERROR(M7*K7*'Product Pricing Sheet'!G8,"") | P7: ='Product A Inventory Sheet'!H13 | Q7: ='Product Pricing Sheet'!F8 -> 15 | R7: ='Product Pricing Sheet'!E8 -> 5 | S7: =Q7*P7 -> #VALUE! | T7: =IFERROR(L7+O7,) -> 0 | U7: =R7*P7 -> #VALUE! | V7: ='Product A Inventory Sheet'!I13*5 -> #VALUE! | W7: ='Product B Inventory Sheet'!$J13 | X7: ='Product B Inventory Sheet'!$K13+'Product B Inventory Sheet'!$K12+'Product B Inventory Sheet'!$K11 -> #VALUE! | Y7: ='Product Pricing Sheet'!$C24+'Product Pricing Sheet'!$D24 -> #VALUE! | Z7: =IFERROR(X7*Y7,"") | AA7: =IFERROR(Y7*W7*'Product Pricing Sheet'!$G24,"") | AB7: ='Product B Inventory Sheet'!$H13 | AC7: ='Product Pricing Sheet'!$F24 -> 15 | AD7: ='Product Pricing Sheet'!$E24 -> 5 | AE7: =AC7*AB7 -> #VALUE! | AF7: =IFERROR(X7+AA7,) -> 0 | AG7: =AD7*AB7 -> #VALUE! | AH7: ='Product B Inventory Sheet'!I13*5 -> #VALUE! | AI7: ='Product C Inventory Sheet'!$J13 | AJ7: ='Product C Inventory Sheet'!$K13+'Product C Inventory Sheet'!$K12+'Product C Inventory Sheet'!$K11 -> #VALUE! | AK7: ='Product Pricing Sheet'!$C40+'Product Pricing Sheet'!$D40 -> #VALUE! | AL7: =IFERROR(AJ7*AK7,"") | AM7: =IFERROR(AK7*AI7*'Product Pricing Sheet'!$G40,"") | AN7: ='Product C Inventory Sheet'!$H13 | AO7: ='Product Pricing Sheet'!$F40 -> 15 | AP7: ='Product Pricing Sheet'!$E40 -> 5 | AQ7: =AO7*AN7 -> #VALUE! | AR7: =IFERROR(AJ7+AM7,) -> 0 | AS7: =AP7*AN7 -> #VALUE! | AT7: ='Product C Inventory Sheet'!I13*5 -> #VALUE! | AU7: ='Product D Inventory Sheet'!$J13 | AV7: ='Product D Inventory Sheet'!$K13+'Product D Inventory Sheet'!$K12+'Product D Inventory Sheet'!$K11 -> #VALUE! | AW7: ='Product Pricing Sheet'!$C56+'Product Pricing Sheet'!$D56 -> #VALUE! | AX7: =IFERROR(AV7*AW7,"") | AY7: =IFERROR(AW7*AU7*'Product Pricing Sheet'!$G56,"") | AZ7: ='Product D Inventory Sheet'!$H13 | BA7: ='Product Pricing Sheet'!$F56 -> 40 | BB7: ='Product Pricing Sheet'!$E56 -> 10 | BC7: =BA7*AZ7 -> #VALUE! | BD7: =IFERROR(AV7+AY7,) -> 0 | BE7: =BB7*AZ7 -> #VALUE! | BF7: ='Product D Inventory Sheet'!I13*5 -> #VALUE!
A8: 6 | B8: =IFERROR(F8+C8+D8+E8+G8+H8+I8,"") | C8: ='Supplier Management Sheet'!P52 -> 0 | D8: ='Supplier Management Sheet'!P37 -> 0 | E8: 0 | F8: =IFERROR(S8-T8-U8-V8,"") | G8: =IFERROR(AE8-AF8-AG8-AH8,"") | H8: =IFERROR(AQ8-AR8-AS8-AT8,"") | I8: =IFERROR(BC8-BD8-BE8-BF8,"") | K8: ='Product A Inventory Sheet'!J14 | L8: ='Product A Inventory Sheet'!K14 | M8: ='Product Pricing Sheet'!C9+'Product Pricing Sheet'!D9 -> #VALUE! | N8: =IFERROR(L8*M8,"") | O8: =IFERROR(M8*K8*'Product Pricing Sheet'!G9,"") | P8: ='Product A Inventory Sheet'!H14 | Q8: ='Product Pricing Sheet'!F9 -> 15 | R8: ='Product Pricing Sheet'!E9 -> 5 | S8: =Q8*P8 -> #VALUE! | T8: =IFERROR(L8+O8,) -> 0 | U8: =R8*P8 -> #VALUE! | V8: ='Product A Inventory Sheet'!I14*5 -> #VALUE! | W8: ='Product B Inventory Sheet'!$J14 | X8: ='Product B Inventory Sheet'!$K14+'Product B Inventory Sheet'!$K13+'Product B Inventory Sheet'!$K12 -> #VALUE! | Y8: ='Product Pricing Sheet'!$C25+'Product Pricing Sheet'!$D25 -> #VALUE! | Z8: =IFERROR(X8*Y8,"") | AA8: =IFERROR(Y8*W8*'Product Pricing Sheet'!$G25,"") | AB8: ='Product B Inventory Sheet'!$H14 | AC8: ='Product Pricing Sheet'!$F25 -> 15 | AD8: ='Product Pricing Sheet'!$E25 -> 5 | AE8: =AC8*AB8 -> #VALUE! | AF8: =IFERROR(X8+AA8,) -> 0 | AG8: =AD8*AB8 -> #VALUE! | AH8: ='Product B Inventory Sheet'!I14*5 -> #VALUE! | AI8: ='Product C Inventory Sheet'!$J14 | AJ8: ='Product C Inventory Sheet'!$K14+'Product C Inventory Sheet'!$K13+'Product C Inventory Sheet'!$K12 -> #VALUE! | AK8: ='Product Pricing Sheet'!$C41+'Product Pricing Sheet'!$D41 -> #VALUE! | AL8: =IFERROR(AJ8*AK8,"") | AM8: =IFERROR(AK8*AI8*'Product Pricing Sheet'!$G41,"") | AN8: ='Product C Inventory Sheet'!$H14 | AO8: ='Product Pricing Sheet'!$F41 -> 15 | AP8: ='Product Pricing Sheet'!$E41 -> 5 | AQ8: =AO8*AN8 -> #VALUE! | AR8: =IFERROR(AJ8+AM8,) -> 0 | AS8: =AP8*AN8 -> #VALUE! | AT8: ='Product C Inventory Sheet'!I14*5 -> #VALUE! | AU8: ='Product D Inventory Sheet'!$J14 | AV8: ='Product D Inventory Sheet'!$K14+'Product D Inventory Sheet'!$K13+'Product D Inventory Sheet'!$K12 -> #VALUE! | AW8: ='Product Pricing Sheet'!$C57+'Product Pricing Sheet'!$D57 -> #VALUE! | AX8: =IFERROR(AV8*AW8,"") | AY8: =IFERROR(AW8*AU8*'Product Pricing Sheet'!$G57,"") | AZ8: ='Product D Inventory Sheet'!$H14 | BA8: ='Product Pricing Sheet'!$F57 -> 40 | BB8: ='Product Pricing Sheet'!$E57 -> 10 | BC8: =BA8*AZ8 -> #VALUE! | BD8: =IFERROR(AV8+AY8,) -> 0 | BE8: =BB8*AZ8 -> #VALUE! | BF8: ='Product D Inventory Sheet'!I14*5 -> #VALUE!
A9: 7 | B9: =IFERROR(F9+C9+D9+E9+G9+H9+I9,"") | C9: ='Supplier Management Sheet'!P53 -> 0 | D9: ='Supplier Management Sheet'!P38 -> 0 | E9: 0 | F9: =IFERROR(S9-T9-U9-V9,"") | G9: =IFERROR(AE9-AF9-AG9-AH9,"") | H9: =IFERROR(AQ9-AR9-AS9-AT9,"") | I9: =IFERROR(BC9-BD9-BE9-BF9,"") | K9: ='Product A Inventory Sheet'!J15 | L9: ='Product A Inventory Sheet'!K15 | M9: ='Product Pricing Sheet'!C10+'Product Pricing Sheet'!D10 -> #VALUE! | N9: =IFERROR(L9*M9,"") | O9: =IFERROR(M9*K9*'Product Pricing Sheet'!G10,"") | P9: ='Product A Inventory Sheet'!H15 | Q9: ='Product Pricing Sheet'!F10 -> 15 | R9: ='Product Pricing Sheet'!E10 -> 5 | S9: =Q9*P9 -> #VALUE! | T9: =IFERROR(L9+O9,) -> 0 | U9: =R9*P9 -> #VALUE! | V9: ='Product A Inventory Sheet'!I15*5 -> #VALUE! | W9: ='Product B Inventory Sheet'!$J15 | X9: ='Product B Inventory Sheet'!$K15+'Product B Inventory Sheet'!$K14+'Product B Inventory Sheet'!$K13 -> #VALUE! | Y9: ='Product Pricing Sheet'!$C26+'Product Pricing Sheet'!$D26 -> #VALUE! | Z9: =IFERROR(X9*Y9,"") | AA9: =IFERROR(Y9*W9*'Product Pricing Sheet'!$G26,"") | AB9: ='Product B Inventory Sheet'!$H15 | AC9: ='Product Pricing Sheet'!$F26 -> 15 | AD9: ='Product Pricing Sheet'!$E26 -> 5 | AE9: =AC9*AB9 -> #VALUE! | AF9: =IFERROR(X9+AA9,) -> 0 | AG9: =AD9*AB9 -> #VALUE! | AH9: ='Product B Inventory Sheet'!I15*5 -> #VALUE! | AI9: ='Product C Inventory Sheet'!$J15 | AJ9: ='Product C Inventory Sheet'!$K15+'Product C Inventory Sheet'!$K14+'Product C Inventory Sheet'!$K13 -> #VALUE! | AK9: ='Product Pricing Sheet'!$C42+'Product Pricing Sheet'!$D42 -> #VALUE! | AL9: =IFERROR(AJ9*AK9,"") | AM9: =IFERROR(AK9*AI9*'Product Pricing Sheet'!$G42,"") | AN9: ='Product C Inventory Sheet'!$H15 | AO9: ='Product Pricing Sheet'!$F42 -> 15 | AP9: ='Product Pricing Sheet'!$E42 -> 5 | AQ9: =AO9*AN9 -> #VALUE! | AR9: =IFERROR(AJ9+AM9,) -> 0 | AS9: =AP9*AN9 -> #VALUE! | AT9: ='Product C Inventory Sheet'!I15*5 -> #VALUE! | AU9: ='Product D Inventory Sheet'!$J15 | AV9: ='Product D Inventory Sheet'!$K15+'Product D Inventory Sheet'!$K14+'Product D Inventory Sheet'!$K13 -> #VALUE! | AW9: ='Product Pricing Sheet'!$C58+'Product Pricing Sheet'!$D58 -> #VALUE! | AX9: =IFERROR(AV9*AW9,"") | AY9: =IFERROR(AW9*AU9*'Product Pricing Sheet'!$G58,"") | AZ9: ='Product D Inventory Sheet'!$H15 | BA9: ='Product Pricing Sheet'!$F58 -> 40 | BB9: ='Product Pricing Sheet'!$E58 -> 10 | BC9: =BA9*AZ9 -> #VALUE! | BD9: =IFERROR(AV9+AY9,) -> 0 | BE9: =BB9*AZ9 -> #VALUE! | BF9: ='Product D Inventory Sheet'!I15*5 -> #VALUE!
A10: 8 | B10: =IFERROR(F10+C10+D10+E10+G10+H10+I10,"") | C10: ='Supplier Management Sheet'!P54 -> 0 | D10: ='Supplier Management Sheet'!P39 -> 0 | E10: 0 | F10: =IFERROR(S10-T10-U10-V10,"") | G10: =IFERROR(AE10-AF10-AG10-AH10,"") | H10: =IFERROR(AQ10-AR10-AS10-AT10,"") | I10: =IFERROR(BC10-BD10-BE10-BF10,"") | K10: ='Product A Inventory Sheet'!J16 | L10: ='Product A Inventory Sheet'!K16 | M10: ='Product Pricing Sheet'!C11+'Product Pricing Sheet'!D11 -> #VALUE! | N10: =IFERROR(L10*M10,"") | O10: =IFERROR(M10*K10*'Product Pricing Sheet'!G11,"") | P10: ='Product A Inventory Sheet'!H16 | Q10: ='Product Pricing Sheet'!F11 -> 15 | R10: ='Product Pricing Sheet'!E11 -> 5 | S10: =Q10*P10 -> #VALUE! | T10: =IFERROR(L10+O10,) -> 0 | U10: =R10*P10 -> #VALUE! | V10: ='Product A Inventory Sheet'!I16*5 -> #VALUE! | W10: ='Product B Inventory Sheet'!$J16 | X10: ='Product B Inventory Sheet'!$K16+'Product B Inventory Sheet'!$K15+'Product B Inventory Sheet'!$K14 -> #VALUE! | Y10: ='Product Pricing Sheet'!$C27+'Product Pricing Sheet'!$D27 -> #VALUE! | Z10: =IFERROR(X10*Y10,"") | AA10: =IFERROR(Y10*W10*'Product Pricing Sheet'!$G27,"") | AB10: ='Product B Inventory Sheet'!$H16 | AC10: ='Product Pricing Sheet'!$F27 -> 15 | AD10: ='Product Pricing Sheet'!$E27 -> 5 | AE10: =AC10*AB10 -> #VALUE! | AF10: =IFERROR(X10+AA10,) -> 0 | AG10: =AD10*AB10 -> #VALUE! | AH10: ='Product B Inventory Sheet'!I16*5 -> #VALUE! | AI10: ='Product C Inventory Sheet'!$J16 | AJ10: ='Product C Inventory Sheet'!$K16+'Product C Inventory Sheet'!$K15+'Product C Inventory Sheet'!$K14 -> #VALUE! | AK10: ='Product Pricing Sheet'!$C43+'Product Pricing Sheet'!$D43 -> #VALUE! | AL10: =IFERROR(AJ10*AK10,"") | AM10: =IFERROR(AK10*AI10*'Product Pricing Sheet'!$G43,"") | AN10: ='Product C Inventory Sheet'!$H16 | AO10: ='Product Pricing Sheet'!$F43 -> 15 | AP10: ='Product Pricing Sheet'!$E43 -> 5 | AQ10: =AO10*AN10 -> #VALUE! | AR10: =IFERROR(AJ10+AM10,) -> 0 | AS10: =AP10*AN10 -> #VALUE! | AT10: ='Product C Inventory Sheet'!I16*5 -> #VALUE! | AU10: ='Product D Inventory Sheet'!$J16 | AV10: ='Product D Inventory Sheet'!$K16+'Product D Inventory Sheet'!$K15+'Product D Inventory Sheet'!$K14 -> #VALUE! | AW10: ='Product Pricing Sheet'!$C59+'Product Pricing Sheet'!$D59 -> #VALUE! | AX10: =IFERROR(AV10*AW10,"") | AY10: =IFERROR(AW10*AU10*'Product Pricing Sheet'!$G59,"") | AZ10: ='Product D Inventory Sheet'!$H16 | BA10: ='Product Pricing Sheet'!$F59 -> 40 | BB10: ='Product Pricing Sheet'!$E59 -> 10 | BC10: =BA10*AZ10 -> #VALUE! | BD10: =IFERROR(AV10+AY10,) -> 0 | BE10: =BB10*AZ10 -> #VALUE! | BF10: ='Product D Inventory Sheet'!I16*5 -> #VALUE!
A11: 9 | B11: =IFERROR(F11+C11+D11+E11+G11+H11+I11,"") | C11: ='Supplier Management Sheet'!P55 -> 0 | D11: ='Supplier Management Sheet'!P40 -> 0 | E11: 0 | F11: =IFERROR(S11-T11-U11-V11,"") | G11: =IFERROR(AE11-AF11-AG11-AH11,"") | H11: =IFERROR(AQ11-AR11-AS11-AT11,"") | I11: =IFERROR(BC11-BD11-BE11-BF11,"") | K11: ='Product A Inventory Sheet'!J17 | L11: ='Product A Inventory Sheet'!K17 | M11: ='Product Pricing Sheet'!C12+'Product Pricing Sheet'!D12 -> #VALUE! | N11: =IFERROR(L11*M11,"") | O11: =IFERROR(M11*K11*'Product Pricing Sheet'!G12,"") | P11: ='Product A Inventory Sheet'!H17 | Q11: ='Product Pricing Sheet'!F12 -> 15 | R11: ='Product Pricing Sheet'!E12 -> 5 | S11: =Q11*P11 -> #VALUE! | T11: =IFERROR(L11+O11,) -> 0 | U11: =R11*P11 -> #VALUE! | V11: ='Product A Inventory Sheet'!I17*5 -> #VALUE! | W11: ='Product B Inventory Sheet'!$J17 | X11: ='Product B Inventory Sheet'!$K17+'Product B Inventory Sheet'!$K16+'Product B Inventory Sheet'!$K15 -> #VALUE! | Y11: ='Product Pricing Sheet'!$C28+'Product Pricing Sheet'!$D28 -> #VALUE! | Z11: =IFERROR(X11*Y11,"") | AA11: =IFERROR(Y11*W11*'Product Pricing Sheet'!$G28,"") | AB11: ='Product B Inventory Sheet'!$H17 | AC11: ='Product Pricing Sheet'!$F28 -> 15 | AD11: ='Product Pricing Sheet'!$E28 -> 5 | AE11: =AC11*AB11 -> #VALUE! | AF11: =IFERROR(X11+AA11,) -> 0 | AG11: =AD11*AB11 -> #VALUE! | AH11: ='Product B Inventory Sheet'!I17*5 -> #VALUE! | AI11: ='Product C Inventory Sheet'!$J17 | AJ11: ='Product C Inventory Sheet'!$K17+'Product C Inventory Sheet'!$K16+'Product C Inventory Sheet'!$K15 -> #VALUE! | AK11: ='Product Pricing Sheet'!$C44+'Product Pricing Sheet'!$D44 -> #VALUE! | AL11: =IFERROR(AJ11*AK11,"") | AM11: =IFERROR(AK11*AI11*'Product Pricing Sheet'!$G44,"") | AN11: ='Product C Inventory Sheet'!$H17 | AO11: ='Product Pricing Sheet'!$F44 -> 15 | AP11: ='Product Pricing Sheet'!$E44 -> 5 | AQ11: =AO11*AN11 -> #VALUE! | AR11: =IFERROR(AJ11+AM11,) -> 0 | AS11: =AP11*AN11 -> #VALUE! | AT11: ='Product C Inventory Sheet'!I17*5 -> #VALUE! | AU11: ='Product D Inventory Sheet'!$J17 | AV11: ='Product D Inventory Sheet'!$K17+'Product D Inventory Sheet'!$K16+'Product D Inventory Sheet'!$K15 -> #VALUE! | AW11: ='Product Pricing Sheet'!$C60+'Product Pricing Sheet'!$D60 -> #VALUE! | AX11: =IFERROR(AV11*AW11,"") | AY11: =IFERROR(AW11*AU11*'Product Pricing Sheet'!$G60,"") | AZ11: ='Product D Inventory Sheet'!$H17 | BA11: ='Product Pricing Sheet'!$F60 -> 40 | BB11: ='Product Pricing Sheet'!$E60 -> 10 | BC11: =BA11*AZ11 -> #VALUE! | BD11: =IFERROR(AV11+AY11,) -> 0 | BE11: =BB11*AZ11 -> #VALUE! | BF11: ='Product D Inventory Sheet'!I17*5 -> #VALUE!
A12: 10 | B12: =IFERROR(F12+C12+D12+E12+G12+H12+I12,"") | C12: ='Supplier Management Sheet'!P56 -> 0 | D12: ='Supplier Management Sheet'!P41 -> 0 | E12: 0 | F12: =IFERROR(S12-T12-U12-V12,"") | G12: =IFERROR(AE12-AF12-AG12-AH12,"") | H12: =IFERROR(AQ12-AR12-AS12-AT12,"") | I12: =IFERROR(BC12-BD12-BE12-BF12,"") | K12: ='Product A Inventory Sheet'!J18 | L12: ='Product A Inventory Sheet'!K18 | M12: ='Product Pricing Sheet'!C13+'Product Pricing Sheet'!D13 -> #VALUE! | N12: =IFERROR(L12*M12,"") | O12: =IFERROR(M12*K12*'Product Pricing Sheet'!G13,"") | P12: ='Product A Inventory Sheet'!H18 | Q12: ='Product Pricing Sheet'!F13 -> 15 | R12: ='Product Pricing Sheet'!E13 -> 5 | S12: =Q12*P12 -> #VALUE! | T12: =IFERROR(L12+O12,) -> 0 | U12: =R12*P12 -> #VALUE! | V12: ='Product A Inventory Sheet'!I18*5 -> #VALUE! | W12: ='Product B Inventory Sheet'!$J18 | X12: ='Product B Inventory Sheet'!$K18+'Product B Inventory Sheet'!$K17+'Product B Inventory Sheet'!$K16 -> #VALUE! | Y12: ='Product Pricing Sheet'!$C29+'Product Pricing Sheet'!$D29 -> #VALUE! | Z12: =IFERROR(X12*Y12,"") | AA12: =IFERROR(Y12*W12*'Product Pricing Sheet'!$G29,"") | AB12: ='Product B Inventory Sheet'!$H18 | AC12: ='Product Pricing Sheet'!$F29 -> 15 | AD12: ='Product Pricing Sheet'!$E29 -> 5 | AE12: =AC12*AB12 -> #VALUE! | AF12: =IFERROR(X12+AA12,) -> 0 | AG12: =AD12*AB12 -> #VALUE! | AH12: ='Product B Inventory Sheet'!I18*5 -> #VALUE! | AI12: ='Product C Inventory Sheet'!$J18 | AJ12: ='Product C Inventory Sheet'!$K18+'Product C Inventory Sheet'!$K17+'Product C Inventory Sheet'!$K16 -> #VALUE! | AK12: ='Product Pricing Sheet'!$C45+'Product Pricing Sheet'!$D45 -> #VALUE! | AL12: =IFERROR(AJ12*AK12,"") | AM12: =IFERROR(AK12*AI12*'Product Pricing Sheet'!$G45,"") | AN12: ='Product C Inventory Sheet'!$H18 | AO12: ='Product Pricing Sheet'!$F45 -> 15 | AP12: ='Product Pricing Sheet'!$E45 -> 5 | AQ12: =AO12*AN12 -> #VALUE! | AR12: =IFERROR(AJ12+AM12,) -> 0 | AS12: =AP12*AN12 -> #VALUE! | AT12: ='Product C Inventory Sheet'!I18*5 -> #VALUE! | AU12: ='Product D Inventory Sheet'!$J18 | AV12: ='Product D Inventory Sheet'!$K18+'Product D Inventory Sheet'!$K17+'Product D Inventory Sheet'!$K16 -> #VALUE! | AW12: ='Product Pricing Sheet'!$C61+'Product Pricing Sheet'!$D61 -> #VALUE! | AX12: =IFERROR(AV12*AW12,"") | AY12: =IFERROR(AW12*AU12*'Product Pricing Sheet'!$G61,"") | AZ12: ='Product D Inventory Sheet'!$H18 | BA12: ='Product Pricing Sheet'!$F61 -> 40 | BB12: ='Product Pricing Sheet'!$E61 -> 10 | BC12: =BA12*AZ12 -> #VALUE! | BD12: =IFERROR(AV12+AY12,) -> 0 | BE12: =BB12*AZ12 -> #VALUE! | BF12: ='Product D Inventory Sheet'!I18*5 -> #VALUE!
A13: 11 | B13: =IFERROR(F13+C13+D13+E13+G13+H13+I13,"") | C13: ='Supplier Management Sheet'!P57 -> 0 | D13: ='Supplier Management Sheet'!P42 -> 0 | E13: 0 | F13: =IFERROR(S13-T13-U13-V13,"") | G13: =IFERROR(AE13-AF13-AG13-AH13,"") | H13: =IFERROR(AQ13-AR13-AS13-AT13,"") | I13: =IFERROR(BC13-BD13-BE13-BF13,"") | K13: ='Product A Inventory Sheet'!J19 | L13: ='Product A Inventory Sheet'!K19 | M13: ='Product Pricing Sheet'!C14+'Product Pricing Sheet'!D14 -> #VALUE! | N13: =IFERROR(L13*M13,"") | O13: =IFERROR(M13*K13*'Product Pricing Sheet'!G14,"") | P13: ='Product A Inventory Sheet'!H19 | Q13: ='Product Pricing Sheet'!F14 -> 15 | R13: ='Product Pricing Sheet'!E14 -> 5 | S13: =Q13*P13 -> #VALUE! | T13: =IFERROR(L13+O13,) -> 0 | U13: =R13*P13 -> #VALUE! | V13: ='Product A Inventory Sheet'!I19*5 -> #VALUE! | W13: ='Product B Inventory Sheet'!$J19 | X13: ='Product B Inventory Sheet'!$K19+'Product B Inventory Sheet'!$K18+'Product B Inventory Sheet'!$K17 -> #VALUE! | Y13: ='Product Pricing Sheet'!$C30+'Product Pricing Sheet'!$D30 -> #VALUE! | Z13: =IFERROR(X13*Y13,"") | AA13: =IFERROR(Y13*W13*'Product Pricing Sheet'!$G30,"") | AB13: ='Product B Inventory Sheet'!$H19 | AC13: ='Product Pricing Sheet'!$F30 -> 15 | AD13: ='Product Pricing Sheet'!$E30 -> 5 | AE13: =AC13*AB13 -> #VALUE! | AF13: =IFERROR(X13+AA13,) -> 0 | AG13: =AD13*AB13 -> #VALUE! | AH13: ='Product B Inventory Sheet'!I19*5 -> #VALUE! | AI13: ='Product C Inventory Sheet'!$J19 | AJ13: ='Product C Inventory Sheet'!$K19+'Product C Inventory Sheet'!$K18+'Product C Inventory Sheet'!$K17 -> #VALUE! | AK13: ='Product Pricing Sheet'!$C46+'Product Pricing Sheet'!$D46 -> #VALUE! | AL13: =IFERROR(AJ13*AK13,"") | AM13: =IFERROR(AK13*AI13*'Product Pricing Sheet'!$G46,"") | AN13: ='Product C Inventory Sheet'!$H19 | AO13: ='Product Pricing Sheet'!$F46 -> 15 | AP13: ='Product Pricing Sheet'!$E46 -> 5 | AQ13: =AO13*AN13 -> #VALUE! | AR13: =IFERROR(AJ13+AM13,) -> 0 | AS13: =AP13*AN13 -> #VALUE! | AT13: ='Product C Inventory Sheet'!I19*5 -> #VALUE! | AU13: ='Product D Inventory Sheet'!$J19 | AV13: ='Product D Inventory Sheet'!$K19+'Product D Inventory Sheet'!$K18+'Product D Inventory Sheet'!$K17 -> #VALUE! | AW13: ='Product Pricing Sheet'!$C62+'Product Pricing Sheet'!$D62 -> #VALUE! | AX13: =IFERROR(AV13*AW13,"") | AY13: =IFERROR(AW13*AU13*'Product Pricing Sheet'!$G62,"") | AZ13: ='Product D Inventory Sheet'!$H19 | BA13: ='Product Pricing Sheet'!$F62 -> 40 | BB13: ='Product Pricing Sheet'!$E62 -> 10 | BC13: =BA13*AZ13 -> #VALUE! | BD13: =IFERROR(AV13+AY13,) -> 0 | BE13: =BB13*AZ13 -> #VALUE! | BF13: ='Product D Inventory Sheet'!I19*5 -> #VALUE!
A14: 12 | B14: =IFERROR(F14+C14+D14+E14+G14+H14+I14,"") | C14: ='Supplier Management Sheet'!P58 -> 0 | D14: ='Supplier Management Sheet'!P43 -> 0 | E14: 0 | F14: =IFERROR(S14-T14-U14-V14,"") | G14: =IFERROR(AE14-AF14-AG14-AH14,"") | H14: =IFERROR(AQ14-AR14-AS14-AT14,"") | I14: =IFERROR(BC14-BD14-BE14-BF14,"") | K14: ='Product A Inventory Sheet'!J20 | L14: ='Product A Inventory Sheet'!K20 | M14: ='Product Pricing Sheet'!C15+'Product Pricing Sheet'!D15 -> #VALUE! | N14: =IFERROR(L14*M14,"") | O14: =IFERROR(M14*K14*'Product Pricing Sheet'!G15,"") | P14: ='Product A Inventory Sheet'!H20 | Q14: ='Product Pricing Sheet'!F15 -> 15 | R14: ='Product Pricing Sheet'!E15 -> 5 | S14: =Q14*P14 -> #VALUE! | T14: =IFERROR(L14+O14,) -> 0 | U14: =R14*P14 -> #VALUE! | V14: ='Product A Inventory Sheet'!I20*5 -> #VALUE! | W14: ='Product B Inventory Sheet'!$J20 | X14: ='Product B Inventory Sheet'!$K20+'Product B Inventory Sheet'!$K19+'Product B Inventory Sheet'!$K18 -> #VALUE! | Y14: ='Product Pricing Sheet'!$C31+'Product Pricing Sheet'!$D31 -> #VALUE! | Z14: =IFERROR(X14*Y14,"") | AA14: =IFERROR(Y14*W14*'Product Pricing Sheet'!$G31,"") | AB14: ='Product B Inventory Sheet'!$H20 | AC14: ='Product Pricing Sheet'!$F31 -> 15 | AD14: ='Product Pricing Sheet'!$E31 -> 5 | AE14: =AC14*AB14 -> #VALUE! | AF14: =IFERROR(X14+AA14,) -> 0 | AG14: =AD14*AB14 -> #VALUE! | AH14: ='Product B Inventory Sheet'!I20*5 -> #VALUE! | AI14: ='Product C Inventory Sheet'!$J20 | AJ14: ='Product C Inventory Sheet'!$K20+'Product C Inventory Sheet'!$K19+'Product C Inventory Sheet'!$K18 -> #VALUE! | AK14: ='Product Pricing Sheet'!$C47+'Product Pricing Sheet'!$D47 -> #VALUE! | AL14: =IFERROR(AJ14*AK14,"") | AM14: =IFERROR(AK14*AI14*'Product Pricing Sheet'!$G47,"") | AN14: ='Product C Inventory Sheet'!$H20 | AO14: ='Product Pricing Sheet'!$F47 -> 15 | AP14: ='Product Pricing Sheet'!$E47 -> 5 | AQ14: =AO14*AN14 -> #VALUE! | AR14: =IFERROR(AJ14+AM14,) -> 0 | AS14: =AP14*AN14 -> #VALUE! | AT14: ='Product C Inventory Sheet'!I20*5 -> #VALUE! | AU14: ='Product D Inventory Sheet'!$J20 | AV14: ='Product D Inventory Sheet'!$K20+'Product D Inventory Sheet'!$K19+'Product D Inventory Sheet'!$K18 -> #VALUE! | AW14: ='Product Pricing Sheet'!$C63+'Product Pricing Sheet'!$D63 -> #VALUE! | AX14: =IFERROR(AV14*AW14,"") | AY14: =IFERROR(AW14*AU14*'Product Pricing Sheet'!$G63,"") | AZ14: ='Product D Inventory Sheet'!$H20 | BA14: ='Product Pricing Sheet'!$F63 -> 40 | BB14: ='Product Pricing Sheet'!$E63 -> 10 | BC14: =BA14*AZ14 -> #VALUE! | BD14: =IFERROR(AV14+AY14,) -> 0 | BE14: =BB14*AZ14 -> #VALUE! | BF14: ='Product D Inventory Sheet'!I20*5 -> #VALUE!
A16: Total | B16: =SUM(B3:B14) -> 0

Sheet Product A Inventory Sheet
A1: Event | B1: Fill in if an event occurs with a supplier for this product | J1: 25 | K1: 1
A2: Decision | B2: Decided Each Period (imported from Decision Sheet)
B3: Calculated Automatically
A5: Inventory Sheet
A6: Period | B6: Beginning Inventory | C6: Inventory Modifier | D6: Inventory Scheduled to Arrrive | E6: Inventory Received Modifier | F6: Demand | G6: Demand Modifier | H6: Fulfilled Demand | I6: Unfulfilled Demand | J6: Ending Inventory | K6: Orders Placed (Arrives T+2)
A7: ='Decision Sheet'!D2 -> Period -1 | B7: 0 | K7: =IF(ISBLANK(HLOOKUP($A7,'Decision Sheet'!$D$2:$Q$39,K$1+$J$1,FALSE)),"",HLOOKUP($A7,'Decision Sheet'!$D$2:$Q$39,K$1+$J$1,FALSE))
A8: ='Decision Sheet'!E2 -> Period 0 | B8: 0 | K8: =IF(ISBLANK(HLOOKUP($A8,'Decision Sheet'!$D$2:$Q$39,K$1+$J$1,FALSE)),"",HLOOKUP($A8,'Decision Sheet'!$D$2:$Q$39,K$1+$J$1,FALSE))
A9: ='Decision Sheet'!F2 -> Period 1 | B9: =J8 -> 0 | D9: =K7 | F9: ='Historical Demand'!C27 | H9: =IFERROR(MIN(F9*(1+G9),B9*(1+C9)+D9*(1+E9)),"") | I9: =IFERROR(F9*(1+G9)-H9,"") | J9: =IFERROR(B9*(1+C9)+D9*(1+E9)-H9,"") | K9: =IF(ISBLANK(HLOOKUP($A9,'Decision Sheet'!$D$2:$Q$39,K$1+$J$1,FALSE)),"",HLOOKUP($A9,'Decision Sheet'!$D$2:$Q$39,K$1+$J$1,FALSE))
